BEGIN:VCALENDAR
VERSION:2.0
PRODID:-//Fildersporttaucher Aichtal e.V. - ECPv6.8.1//NONSGML v1.0//EN
CALSCALE:GREGORIAN
METHOD:PUBLISH
X-WR-CALNAME:Fildersporttaucher Aichtal e.V.
X-ORIGINAL-URL:http://fsta.de/wp
X-WR-CALDESC:Veranstaltungen für Fildersporttaucher Aichtal e.V.
REFRESH-INTERVAL;VALUE=DURATION:PT1H
X-Robots-Tag:noindex
X-PUBLISHED-TTL:PT1H
BEGIN:VTIMEZONE
TZID:Europe/Helsinki
BEGIN:DAYLIGHT
TZOFFSETFROM:+0200
TZOFFSETTO:+0300
TZNAME:EEST
DTSTART:20230326T010000
END:DAYLIGHT
BEGIN:STANDARD
TZOFFSETFROM:+0300
TZOFFSETTO:+0200
TZNAME:EET
DTSTART:20231029T010000
END:STANDARD
END:VTIMEZONE
BEGIN:VEVENT
DTSTART;TZID=Europe/Helsinki:20230819T103000
DTEND;TZID=Europe/Helsinki:20230819T130000
DTSTAMP:20260421T135116
CREATED:20240829T091438Z
LAST-MODIFIED:20240829T091621Z
UID:1894-1692441000-1692450000@fsta.de
SUMMARY:Kanuausflug auf dem Neckar
DESCRIPTION:habt ihr Lust auf ein spannendes Abenteuer in der Natur? Dann seid ihr herzlich zu unserem Kanuausflug eingeladen! \nWann: Samstag\, den 19.08.2023\nTreffpunkt: Am Mühlwehr 3\, 72768 Reutlingen\nUhrzeit: 10:30 Uhr \nWir planen eine gemütliche Fahrt auf dem Neckar\, wo wir die Natur genießen und gemeinsam eine schöne Zeit auf dem Wasser verbringen werden. Egal ob Anfänger oder erfahrener Paddler\, jeder ist willkommen! \nWas ihr mitbringen solltet: \n\nWettergerechte Kleidung\nSonnenschutz (Sonnencreme\, Hut)\nTrinkflasche und kleine Snacks\nGute Laune!\n\nIch freue mich auf einen erlebnisreichen Tag mit euch!
URL:http://fsta.de/wp/event/kanuausflug/
LOCATION:Kanu Witt\, Am Mühlwehr 3\, Reutlingen\, Baden-Württemberg\, 72768\, Deutschland
ATTACH;FMTTYPE=image/jpeg:http://fsta.de/wp/wp-content/uploads/2023/12/20230819_120035-scaled.jpg
END:VEVENT
END:VCALENDAR